BEGIN:VCALENDAR
VERSION:2.0
PRODID:-//jEvents 2.0 for Joomla//EN
CALSCALE:GREGORIAN
METHOD:PUBLISH
BEGIN:VEVENT
UID:d873b4668c0fce4f6645c2ed1f191321
CATEGORIES:Veranstaltungen
CREATED:20210412T100855
SUMMARY:Noteneintragung
DESCRIPTION:
DTSTAMP:20260426T015938
DTSTART:20210702T060000
DTEND:20210702T160000
SEQUENCE:0
TRANSP:OPAQUE
END:VEVENT
END:VCALENDAR