BEGIN:VCALENDAR
VERSION:2.0
PRODID:-//jEvents 2.0 for Joomla//EN
CALSCALE:GREGORIAN
METHOD:PUBLISH
BEGIN:VEVENT
UID:68c665d782b3497febaf9a61093748ee
CATEGORIES:Veranstaltungen
CREATED:20210412T100640
SUMMARY:Meldung der Fächer zum Antritt zur mündlichen Reife- und Diplomprüfung
DESCRIPTION:
DTSTAMP:20260425T204329
DTSTART:20210423T060000
DTEND:20210423T100000
SEQUENCE:0
TRANSP:OPAQUE
END:VEVENT
END:VCALENDAR