BEGIN:VCALENDAR
VERSION:2.0
PRODID:-//jEvents 2.0 for Joomla//EN
CALSCALE:GREGORIAN
METHOD:PUBLISH
BEGIN:VEVENT
UID:35f25c910b859e9f63dff295b8b30344
CATEGORIES:Veranstaltungen
CREATED:20210322T093156
SUMMARY:Konferenz Diplomarbeiten
DESCRIPTION:
DTSTAMP:20260425T222044
DTSTART:20210324T150000
DTEND:20210324T170000
SEQUENCE:0
TRANSP:OPAQUE
END:VEVENT
END:VCALENDAR