BEGIN:VCALENDAR
VERSION:2.0
PRODID:-//jEvents 2.0 for Joomla//EN
CALSCALE:GREGORIAN
METHOD:PUBLISH
BEGIN:VEVENT
UID:2acac28f4595554d9c9766a23d367b5c
CATEGORIES:Veranstaltungen
CREATED:20210302T111808
SUMMARY:Osterferien
DESCRIPTION:
DTSTAMP:20260425T204324
DTSTART:20210327T070000
DTEND:20210405T150000
SEQUENCE:0
TRANSP:OPAQUE
END:VEVENT
END:VCALENDAR