BEGIN:VCALENDAR
VERSION:2.0
PRODID:-//jEvents 2.0 for Joomla//EN
CALSCALE:GREGORIAN
METHOD:PUBLISH
BEGIN:VEVENT
UID:a0c475226aa9e3c88db4f9bf07e9cff9
CATEGORIES:Veranstaltungen
CREATED:20210302T111717
SUMMARY:Jugendredewettbewerb - digital
DESCRIPTION:
DTSTAMP:20260425T223909
DTSTART:20210326T150000
DTEND:20210326T190000
SEQUENCE:0
TRANSP:OPAQUE
END:VEVENT
END:VCALENDAR