BEGIN:VCALENDAR
VERSION:2.0
PRODID:-//jEvents 2.0 for Joomla//EN
CALSCALE:GREGORIAN
METHOD:PUBLISH
BEGIN:VEVENT
UID:cd2c09e5db8a9706dd4ffac6e5ad333b
CATEGORIES:Veranstaltungen
CREATED:20210302T111618
SUMMARY:Landesfeiertag Josefi - schulfrei
DESCRIPTION:
DTSTAMP:20260425T223652
DTSTART:20210319T070000
DTEND:20210319T160000
SEQUENCE:0
TRANSP:OPAQUE
END:VEVENT
END:VCALENDAR