BEGIN:VCALENDAR
VERSION:2.0
PRODID:-//jEvents 2.0 for Joomla//EN
CALSCALE:GREGORIAN
METHOD:PUBLISH
BEGIN:VEVENT
UID:ab207e0bfd0056c54a6062843155d8c5
CATEGORIES:Veranstaltungen
CREATED:20210301T094142
SUMMARY:BeST-Messe digital
DESCRIPTION:
DTSTAMP:20260425T222252
DTSTART:20210304T070000
DTEND:20210307T160000
SEQUENCE:0
TRANSP:OPAQUE
END:VEVENT
END:VCALENDAR