BEGIN:VCALENDAR
VERSION:2.0
PRODID:-//jEvents 2.0 for Joomla//EN
CALSCALE:GREGORIAN
METHOD:PUBLISH
BEGIN:VEVENT
UID:af8494fb9c1b739819b351778685b925
CATEGORIES:Veranstaltungen
CREATED:20210301T094116
SUMMARY:Kick-Off-Veranstaltung Diplomarbeiten
DESCRIPTION:
DTSTAMP:20260426T000608
DTSTART:20210302T130000
DTEND:20210302T160000
SEQUENCE:0
TRANSP:OPAQUE
END:VEVENT
END:VCALENDAR