BEGIN:VCALENDAR
VERSION:2.0
PRODID:-//jEvents 2.0 for Joomla//EN
CALSCALE:GREGORIAN
METHOD:PUBLISH
BEGIN:VEVENT
UID:1b86c0819aae88aaa70266cf8f7a8397
CATEGORIES:Termine
CREATED:20210301T080601
SUMMARY:Konferenz LehrerInnen
DESCRIPTION:
DTSTAMP:20260425T223909
DTSTART:20210310T150500
DTEND:20210310T163000
SEQUENCE:0
TRANSP:OPAQUE
END:VEVENT
END:VCALENDAR