BEGIN:VCALENDAR
VERSION:2.0
PRODID:-//jEvents 2.0 for Joomla//EN
CALSCALE:GREGORIAN
METHOD:PUBLISH
BEGIN:VEVENT
UID:5200923623a4cc9277f83f303208b648
CATEGORIES:Veranstaltungen
CREATED:20210126T085045
SUMMARY:SGA-Sitzung HAK
DESCRIPTION:
DTSTAMP:20260426T015002
DTSTART:20210203T130000
DTEND:20210203T140000
SEQUENCE:0
TRANSP:OPAQUE
END:VEVENT
END:VCALENDAR