BEGIN:VCALENDAR
VERSION:2.0
PRODID:-//jEvents 2.0 for Joomla//EN
CALSCALE:GREGORIAN
METHOD:PUBLISH
BEGIN:VEVENT
UID:170a19c902d7ae17ed0e2a21fd333369
CATEGORIES:Veranstaltungen
CREATED:20210119T131152
SUMMARY:HTL Vorstellung virtuell
DESCRIPTION:
DTSTAMP:20260425T222118
DTSTART:20210128T183000
DTEND:20210128T190000
SEQUENCE:0
TRANSP:OPAQUE
END:VEVENT
END:VCALENDAR