BEGIN:VCALENDAR
VERSION:2.0
PRODID:-//jEvents 2.0 for Joomla//EN
CALSCALE:GREGORIAN
METHOD:PUBLISH
BEGIN:VEVENT
UID:f46f033976f13f44e0d6ebfd4d04497f
CATEGORIES:Veranstaltungen
CREATED:20210119T131121
SUMMARY:HLW Vorstellung virtuell
DESCRIPTION:
DTSTAMP:20260425T222038
DTSTART:20210128T180000
DTEND:20210128T183000
SEQUENCE:0
TRANSP:OPAQUE
END:VEVENT
END:VCALENDAR