BEGIN:VCALENDAR
VERSION:2.0
PRODID:-//jEvents 2.0 for Joomla//EN
CALSCALE:GREGORIAN
METHOD:PUBLISH
BEGIN:VEVENT
UID:44338e2735119a0515ef572357b04163
CATEGORIES:Veranstaltungen
CREATED:20210119T131046
SUMMARY:HAK Vorstellung virtuell
DESCRIPTION:
DTSTAMP:20260425T185455
DTSTART:20210128T173000
DTEND:20210128T180000
SEQUENCE:0
TRANSP:OPAQUE
END:VEVENT
END:VCALENDAR