BEGIN:VCALENDAR
VERSION:2.0
PRODID:-//jEvents 2.0 for Joomla//EN
CALSCALE:GREGORIAN
METHOD:PUBLISH
BEGIN:VEVENT
UID:561429679f1537cca062cc46ca735cec
CATEGORIES:Veranstaltungen
CREATED:20210118T114413
SUMMARY:Semesterkonferenz
DESCRIPTION:
DTSTAMP:20260426T000531
DTSTART:20210202T130000
DTEND:20210202T180000
SEQUENCE:0
TRANSP:OPAQUE
END:VEVENT
END:VCALENDAR