BEGIN:VCALENDAR
VERSION:2.0
PRODID:-//jEvents 2.0 for Joomla//EN
CALSCALE:GREGORIAN
METHOD:PUBLISH
BEGIN:VEVENT
UID:8a7b86eb64b89cd7de4e326074e96996
CATEGORIES:Veranstaltungen
CREATED:20210118T114337
SUMMARY:Notenschluss/Noteneintragung
DESCRIPTION:
DTSTAMP:20260426T000037
DTSTART:20210202T070000
DTEND:20210202T110000
SEQUENCE:0
TRANSP:OPAQUE
END:VEVENT
END:VCALENDAR