BEGIN:VCALENDAR
VERSION:2.0
PRODID:-//jEvents 2.0 for Joomla//EN
CALSCALE:GREGORIAN
METHOD:PUBLISH
BEGIN:VEVENT
UID:adfd165199e762a92fa33fd3e7cc0ccb
CATEGORIES:Veranstaltungen
CREATED:20210118T113946
SUMMARY:letzter Schultag - Beginn Sommerferien
DESCRIPTION:
DTSTAMP:20260426T020215
DTSTART:20210709T060000
DTEND:20210709T100000
SEQUENCE:0
TRANSP:OPAQUE
END:VEVENT
END:VCALENDAR