BEGIN:VCALENDAR
VERSION:2.0
PRODID:-//jEvents 2.0 for Joomla//EN
CALSCALE:GREGORIAN
METHOD:PUBLISH
BEGIN:VEVENT
UID:5878b1741b928b864a3d3d209c9e17b6
CATEGORIES:Veranstaltungen
CREATED:20210118T113910
SUMMARY:Klassenkonferenz
DESCRIPTION:
DTSTAMP:20260426T032441
DTSTART:20210705T110000
DTEND:20210705T160000
SEQUENCE:0
TRANSP:OPAQUE
END:VEVENT
END:VCALENDAR