BEGIN:VCALENDAR
VERSION:2.0
PRODID:-//jEvents 2.0 for Joomla//EN
CALSCALE:GREGORIAN
METHOD:PUBLISH
BEGIN:VEVENT
UID:c8896eb840c1a0b769f4cd75f435b2bc
CATEGORIES:Veranstaltungen
CREATED:20210118T113832
SUMMARY:Notenschluss
DESCRIPTION:
DTSTAMP:20260426T015754
DTSTART:20210702T060000
DTEND:20210702T120000
SEQUENCE:0
TRANSP:OPAQUE
END:VEVENT
END:VCALENDAR