BEGIN:VCALENDAR
VERSION:2.0
PRODID:-//jEvents 2.0 for Joomla//EN
CALSCALE:GREGORIAN
METHOD:PUBLISH
BEGIN:VEVENT
UID:b5f346f5b8007ae9791099e21b5247d0
CATEGORIES:Veranstaltungen
CREATED:20210118T113756
SUMMARY:praktische Vorprüfungen 4w
DESCRIPTION:
DTSTAMP:20260426T000358
DTSTART:20210519T060000
DTEND:20210521T170000
SEQUENCE:0
TRANSP:OPAQUE
END:VEVENT
END:VCALENDAR