BEGIN:VCALENDAR
VERSION:2.0
PRODID:-//jEvents 2.0 for Joomla//EN
CALSCALE:GREGORIAN
METHOD:PUBLISH
BEGIN:VEVENT
UID:4424c890bbe41b6751a222cb7f76714f
CATEGORIES:Veranstaltungen
CREATED:20210118T113710
SUMMARY:letzter Schultag 3w
DESCRIPTION:
DTSTAMP:20260425T223749
DTSTART:20210531T060000
DTEND:20210531T100000
SEQUENCE:0
TRANSP:OPAQUE
END:VEVENT
END:VCALENDAR