BEGIN:VCALENDAR
VERSION:2.0
PRODID:-//jEvents 2.0 for Joomla//EN
CALSCALE:GREGORIAN
METHOD:PUBLISH
BEGIN:VEVENT
UID:78e4cf7405e5d7a202d18b1e3f1f3c90
CATEGORIES:Veranstaltungen
CREATED:20210118T113637
SUMMARY:Klassenkonferenz 3w
DESCRIPTION:
DTSTAMP:20260425T221912
DTSTART:20210526T121500
DTEND:20210526T130000
SEQUENCE:0
TRANSP:OPAQUE
END:VEVENT
END:VCALENDAR