BEGIN:VCALENDAR
VERSION:2.0
PRODID:-//jEvents 2.0 for Joomla//EN
CALSCALE:GREGORIAN
METHOD:PUBLISH
BEGIN:VEVENT
UID:6cfdac3eb36365e9b7c13c7bc996f171
CATEGORIES:Veranstaltungen
CREATED:20210118T113516
SUMMARY:schriftliche Abschlussprüfung Deutsch
DESCRIPTION:
DTSTAMP:20260425T222043
DTSTART:20210526T060000
DTEND:20210526T110000
SEQUENCE:0
TRANSP:OPAQUE
END:VEVENT
END:VCALENDAR