BEGIN:VCALENDAR
VERSION:2.0
PRODID:-//jEvents 2.0 for Joomla//EN
CALSCALE:GREGORIAN
METHOD:PUBLISH
BEGIN:VEVENT
UID:5fabd3835935bfb9a713514b7b4e4443
CATEGORIES:Veranstaltungen
CREATED:20210118T113439
SUMMARY:letzter Schultag 3s
DESCRIPTION:
DTSTAMP:20260426T000030
DTSTART:20210507T060000
DTEND:20210507T100000
SEQUENCE:0
TRANSP:OPAQUE
END:VEVENT
END:VCALENDAR