BEGIN:VCALENDAR
VERSION:2.0
PRODID:-//jEvents 2.0 for Joomla//EN
CALSCALE:GREGORIAN
METHOD:PUBLISH
BEGIN:VEVENT
UID:e73a0802f69a172e8416afb1e71dc52c
CATEGORIES:Veranstaltungen
CREATED:20210118T113402
SUMMARY:Wiederholungsprüfungen 3s
DESCRIPTION:
DTSTAMP:20260425T222234
DTSTART:20210510T060000
DTEND:20210510T150000
SEQUENCE:0
TRANSP:OPAQUE
END:VEVENT
END:VCALENDAR