BEGIN:VCALENDAR
VERSION:2.0
PRODID:-//jEvents 2.0 for Joomla//EN
CALSCALE:GREGORIAN
METHOD:PUBLISH
BEGIN:VEVENT
UID:6e0f1bf8490ac43fd5af019ebe8988da
CATEGORIES:Veranstaltungen
CREATED:20210118T113333
SUMMARY:Coachingtage für schriftliche Abschlussprüfung 3s
DESCRIPTION:
DTSTAMP:20260425T224056
DTSTART:20210503T060000
DTEND:20210507T150000
SEQUENCE:0
TRANSP:OPAQUE
END:VEVENT
END:VCALENDAR