BEGIN:VCALENDAR
VERSION:2.0
PRODID:-//jEvents 2.0 for Joomla//EN
CALSCALE:GREGORIAN
METHOD:PUBLISH
BEGIN:VEVENT
UID:4095d11023bbc1b39811e9c8358dbf83
CATEGORIES:Veranstaltungen
CREATED:20210118T113252
SUMMARY:Klassenkonferenz 3s
DESCRIPTION:
DTSTAMP:20260425T222252
DTSTART:20210503T084000
DTEND:20210503T090000
SEQUENCE:0
TRANSP:OPAQUE
END:VEVENT
END:VCALENDAR