BEGIN:VCALENDAR
VERSION:2.0
PRODID:-//jEvents 2.0 for Joomla//EN
CALSCALE:GREGORIAN
METHOD:PUBLISH
BEGIN:VEVENT
UID:1b1ee095eadc50c4517fedb6482dbd36
CATEGORIES:Veranstaltungen
CREATED:20210118T113215
SUMMARY:Notenschluss/Noteneintragung 3s
DESCRIPTION:
DTSTAMP:20260425T204332
DTSTART:20210430T060000
DTEND:20210430T100000
SEQUENCE:0
TRANSP:OPAQUE
END:VEVENT
END:VCALENDAR