BEGIN:VCALENDAR
VERSION:2.0
PRODID:-//jEvents 2.0 for Joomla//EN
CALSCALE:GREGORIAN
METHOD:PUBLISH
BEGIN:VEVENT
UID:50a14b3b019b45cf717aa20b255475fe
CATEGORIES:Veranstaltungen
CREATED:20210118T113135
SUMMARY:Notenschluss/Noteneintragung 3w
DESCRIPTION:
DTSTAMP:20260425T223621
DTSTART:20210526T060000
DTEND:20210526T100000
SEQUENCE:0
TRANSP:OPAQUE
END:VEVENT
END:VCALENDAR