BEGIN:VCALENDAR
VERSION:2.0
PRODID:-//jEvents 2.0 for Joomla//EN
CALSCALE:GREGORIAN
METHOD:PUBLISH
BEGIN:VEVENT
UID:fc6a24f8f5f2e9342add494f999474ab
CATEGORIES:Veranstaltungen
CREATED:20210118T112204
SUMMARY:Abgabe der mündlichen Aufgaben RDP/AP
DESCRIPTION:
DTSTAMP:20260426T000229
DTSTART:20210621T060000
DTEND:20210621T100000
SEQUENCE:0
TRANSP:OPAQUE
END:VEVENT
END:VCALENDAR