BEGIN:VCALENDAR
VERSION:2.0
PRODID:-//jEvents 2.0 for Joomla//EN
CALSCALE:GREGORIAN
METHOD:PUBLISH
BEGIN:VEVENT
UID:0ff229fb50f6e973e3529e1f1f689c25
CATEGORIES:Veranstaltungen
CREATED:20210118T112031
SUMMARY:Kompensationsprüfungen 5a/5wa/5wb
DESCRIPTION:
DTSTAMP:20260425T235906
DTSTART:20210616T060000
DTEND:20210617T150000
SEQUENCE:0
TRANSP:OPAQUE
END:VEVENT
END:VCALENDAR