BEGIN:VCALENDAR
VERSION:2.0
PRODID:-//jEvents 2.0 for Joomla//EN
CALSCALE:GREGORIAN
METHOD:PUBLISH
BEGIN:VEVENT
UID:5b5f85d05c3fef1ffacad26f62dad909
CATEGORIES:Veranstaltungen
CREATED:20210118T111931
SUMMARY:Konferenz der PrüferInnen AP 3s
DESCRIPTION:
DTSTAMP:20260426T000526
DTSTART:20210608T153000
DTEND:20210608T160000
SEQUENCE:0
TRANSP:OPAQUE
END:VEVENT
END:VCALENDAR