BEGIN:VCALENDAR
VERSION:2.0
PRODID:-//jEvents 2.0 for Joomla//EN
CALSCALE:GREGORIAN
METHOD:PUBLISH
BEGIN:VEVENT
UID:c43336680b268f4bee376405de4b2089
CATEGORIES:Veranstaltungen
CREATED:20210118T111849
SUMMARY:Konferenz der PrüferInnen RDP 5wb
DESCRIPTION:
DTSTAMP:20260426T000034
DTSTART:20210608T143000
DTEND:20210608T150000
SEQUENCE:0
TRANSP:OPAQUE
END:VEVENT
END:VCALENDAR