BEGIN:VCALENDAR
VERSION:2.0
PRODID:-//jEvents 2.0 for Joomla//EN
CALSCALE:GREGORIAN
METHOD:PUBLISH
BEGIN:VEVENT
UID:4f1c075eaa2c1b03aaf8b9dbc257e898
CATEGORIES:Veranstaltungen
CREATED:20210118T111818
SUMMARY:Konferenz der PrüferInnen RDP 5wa
DESCRIPTION:
DTSTAMP:20260426T001216
DTSTART:20210608T133000
DTEND:20210608T140000
SEQUENCE:0
TRANSP:OPAQUE
END:VEVENT
END:VCALENDAR