BEGIN:VCALENDAR
VERSION:2.0
PRODID:-//jEvents 2.0 for Joomla//EN
CALSCALE:GREGORIAN
METHOD:PUBLISH
BEGIN:VEVENT
UID:03ac59d7e1000dd12d85e29f8f29d825
CATEGORIES:Veranstaltungen
CREATED:20210118T111720
SUMMARY:Konferenz der PrüferInnen RDP 5a
DESCRIPTION:
DTSTAMP:20260426T000024
DTSTART:20210608T123000
DTEND:20210608T130000
SEQUENCE:0
TRANSP:OPAQUE
END:VEVENT
END:VCALENDAR