BEGIN:VCALENDAR
VERSION:2.0
PRODID:-//jEvents 2.0 for Joomla//EN
CALSCALE:GREGORIAN
METHOD:PUBLISH
BEGIN:VEVENT
UID:3e8d661a274ad0399b1cf34456a7d184
CATEGORIES:Veranstaltungen
CREATED:20210118T111619
SUMMARY:Abgabe der korrigierten Arbeiten 5a/5wa/5wb/3s
DESCRIPTION:
DTSTAMP:20260425T235928
DTSTART:20210607T060000
DTEND:20210607T100000
SEQUENCE:0
TRANSP:OPAQUE
END:VEVENT
END:VCALENDAR