BEGIN:VCALENDAR
VERSION:2.0
PRODID:-//jEvents 2.0 for Joomla//EN
CALSCALE:GREGORIAN
METHOD:PUBLISH
BEGIN:VEVENT
UID:db4401e736c421d25d2e969371bfb0f5
CATEGORIES:Veranstaltungen
CREATED:20210118T111517
SUMMARY:schriftliche Reife- und Diplomprüfung Italienisch
DESCRIPTION:
DTSTAMP:20260426T000458
DTSTART:20210531T060000
DTEND:20210531T120000
SEQUENCE:0
TRANSP:OPAQUE
END:VEVENT
END:VCALENDAR