BEGIN:VCALENDAR
VERSION:2.0
PRODID:-//jEvents 2.0 for Joomla//EN
CALSCALE:GREGORIAN
METHOD:PUBLISH
BEGIN:VEVENT
UID:77bf2b0d87eda71db373f33f008ea7ef
CATEGORIES:Veranstaltungen
CREATED:20210118T111124
SUMMARY:schriftliche Reife- und Diplomprüfung Französisch
DESCRIPTION:
DTSTAMP:20260425T223421
DTSTART:20210528T060000
DTEND:20210528T120000
SEQUENCE:0
TRANSP:OPAQUE
END:VEVENT
END:VCALENDAR