BEGIN:VCALENDAR
VERSION:2.0
PRODID:-//jEvents 2.0 for Joomla//EN
CALSCALE:GREGORIAN
METHOD:PUBLISH
BEGIN:VEVENT
UID:a6d9867756d1b522bf27c62ea8362f6e
CATEGORIES:Veranstaltungen
CREATED:20210118T111021
SUMMARY:schriftliche Reife- und Diplomprüfung BFK
DESCRIPTION:
DTSTAMP:20260425T223534
DTSTART:20210527T060000
DTEND:20210527T120000
SEQUENCE:0
TRANSP:OPAQUE
END:VEVENT
END:VCALENDAR