BEGIN:VCALENDAR
VERSION:2.0
PRODID:-//jEvents 2.0 for Joomla//EN
CALSCALE:GREGORIAN
METHOD:PUBLISH
BEGIN:VEVENT
UID:d9e03299fa001672541b7c03d2fc43e0
CATEGORIES:Veranstaltungen
CREATED:20210118T110938
SUMMARY:schriftliche Reife- und Diplomprüfung Englisch
DESCRIPTION:
DTSTAMP:20260425T223829
DTSTART:20210526T060000
DTEND:20210526T120000
SEQUENCE:0
TRANSP:OPAQUE
END:VEVENT
END:VCALENDAR