BEGIN:VCALENDAR
VERSION:2.0
PRODID:-//jEvents 2.0 for Joomla//EN
CALSCALE:GREGORIAN
METHOD:PUBLISH
BEGIN:VEVENT
UID:d7511f8890a09dfec0342bf2a50f9db0
CATEGORIES:Veranstaltungen
CREATED:20210118T110901
SUMMARY:schriftliche Reife- und Diplomprüfung Angewandte Mathematik
DESCRIPTION:
DTSTAMP:20260426T000442
DTSTART:20210521T060000
DTEND:20210521T120000
SEQUENCE:0
TRANSP:OPAQUE
END:VEVENT
END:VCALENDAR