BEGIN:VCALENDAR
VERSION:2.0
PRODID:-//jEvents 2.0 for Joomla//EN
CALSCALE:GREGORIAN
METHOD:PUBLISH
BEGIN:VEVENT
UID:61055af5f8066bc7a90a87b7f900837d
CATEGORIES:Veranstaltungen
CREATED:20210118T110807
SUMMARY:schriftliche Reife- und Diplomprüfung Deutsch
DESCRIPTION:
DTSTAMP:20260425T223609
DTSTART:20210520T060000
DTEND:20210520T120000
SEQUENCE:0
TRANSP:OPAQUE
END:VEVENT
END:VCALENDAR