BEGIN:VCALENDAR
VERSION:2.0
PRODID:-//jEvents 2.0 for Joomla//EN
CALSCALE:GREGORIAN
METHOD:PUBLISH
BEGIN:VEVENT
UID:8d14ac6aa5b00d8e7ecb967af755f83b
CATEGORIES:Veranstaltungen
CREATED:20210118T110723
SUMMARY:letzter Schultag 5a/5wa/5wb
DESCRIPTION:
DTSTAMP:20260425T204349
DTSTART:20210430T060000
DTEND:20210430T100000
SEQUENCE:0
TRANSP:OPAQUE
END:VEVENT
END:VCALENDAR