BEGIN:VCALENDAR
VERSION:2.0
PRODID:-//jEvents 2.0 for Joomla//EN
CALSCALE:GREGORIAN
METHOD:PUBLISH
BEGIN:VEVENT
UID:db71349752e31f4189f0c2461dfd1fc5
CATEGORIES:Veranstaltungen
CREATED:20210118T110254
SUMMARY:Wiederholungsprüfungen 5a/5wa/5wb
DESCRIPTION:
DTSTAMP:20260426T000021
DTSTART:20210510T060000
DTEND:20210510T120000
SEQUENCE:0
TRANSP:OPAQUE
END:VEVENT
END:VCALENDAR