BEGIN:VCALENDAR
VERSION:2.0
PRODID:-//jEvents 2.0 for Joomla//EN
CALSCALE:GREGORIAN
METHOD:PUBLISH
BEGIN:VEVENT
UID:2fe6d136a2731b580a06a036a447d655
CATEGORIES:Veranstaltungen
CREATED:20210118T110216
SUMMARY:Coachingtage für schriftliche RDP
DESCRIPTION:Coachingtag\n
X-ALT-DESC;FMTTYPE=text/html:<p>Coachingtag</p>
DTSTAMP:20260425T203837
DTSTART:20210426T060000
DTEND:20210430T150000
SEQUENCE:0
TRANSP:OPAQUE
END:VEVENT
END:VCALENDAR