BEGIN:VCALENDAR
VERSION:2.0
PRODID:-//jEvents 2.0 for Joomla//EN
CALSCALE:GREGORIAN
METHOD:PUBLISH
BEGIN:VEVENT
UID:04090ac0b5010624a3b0f6016c8aa972
CATEGORIES:Veranstaltungen
CREATED:20210118T105957
SUMMARY:Klassenkonferenz 5wb
DESCRIPTION:
DTSTAMP:20260425T204136
DTSTART:20210426T141500
DTEND:20210426T150000
SEQUENCE:0
TRANSP:OPAQUE
END:VEVENT
END:VCALENDAR