BEGIN:VCALENDAR
VERSION:2.0
PRODID:-//jEvents 2.0 for Joomla//EN
CALSCALE:GREGORIAN
METHOD:PUBLISH
BEGIN:VEVENT
UID:60f8cdf501894e711166d4f64b49e0d3
CATEGORIES:Veranstaltungen
CREATED:20210118T105927
SUMMARY:Klassenkonferenz 5wa
DESCRIPTION:
DTSTAMP:20260425T222454
DTSTART:20210426T131500
DTEND:20210426T140000
SEQUENCE:0
TRANSP:OPAQUE
END:VEVENT
END:VCALENDAR