BEGIN:VCALENDAR
VERSION:2.0
PRODID:-//jEvents 2.0 for Joomla//EN
CALSCALE:GREGORIAN
METHOD:PUBLISH
BEGIN:VEVENT
UID:4d52f0d56a1c68a9d9b057140fe20614
CATEGORIES:Veranstaltungen
CREATED:20210118T105845
SUMMARY:Klassenkonferenz 5a
DESCRIPTION:
DTSTAMP:20260425T203914
DTSTART:20210426T121500
DTEND:20210426T130000
SEQUENCE:0
TRANSP:OPAQUE
END:VEVENT
END:VCALENDAR