BEGIN:VCALENDAR
VERSION:2.0
PRODID:-//jEvents 2.0 for Joomla//EN
CALSCALE:GREGORIAN
METHOD:PUBLISH
BEGIN:VEVENT
UID:0ac63b5acec45721d3204f8b8762f664
CATEGORIES:Veranstaltungen
CREATED:20210118T105654
SUMMARY:Noteneintragung 5a/5wa/5wb
DESCRIPTION:
DTSTAMP:20260425T203946
DTSTART:20210423T060000
DTEND:20210423T140000
SEQUENCE:0
TRANSP:OPAQUE
END:VEVENT
END:VCALENDAR