BEGIN:VCALENDAR
VERSION:2.0
PRODID:-//jEvents 2.0 for Joomla//EN
CALSCALE:GREGORIAN
METHOD:PUBLISH
BEGIN:VEVENT
UID:1429e52d62adf847fd7392f260a85e6a
CATEGORIES:Veranstaltungen
CREATED:20210118T105608
SUMMARY:Notenschluss 5a/5wa/5wb
DESCRIPTION:
DTSTAMP:20260425T204335
DTSTART:20210423T060000
DTEND:20210423T120000
SEQUENCE:0
TRANSP:OPAQUE
END:VEVENT
END:VCALENDAR