BEGIN:VCALENDAR
VERSION:2.0
PRODID:-//jEvents 2.0 for Joomla//EN
CALSCALE:GREGORIAN
METHOD:PUBLISH
BEGIN:VEVENT
UID:e99b87beed00e690ff89db8dacd4bf5c
CATEGORIES:Veranstaltungen
CREATED:20210118T094241
SUMMARY:Schulführungen
DESCRIPTION:<p>Heute finden wieder Schulführungen statt!</p><p>Die Anmeldung bitte vora
 b telefonisch oder per Mail <span id="cloak3bbf3c2ac6f83a57d37d6fb381853c90
 ">Diese E-Mail-Adresse ist vor Spambots geschützt! Zur Anzeige muss JavaScr
 ipt eingeschaltet sein!</span><script type='text/javascript'>
				document.
 getElementById('cloak3bbf3c2ac6f83a57d37d6fb381853c90').innerHTML = '';
			
 	var prefix = '&#109;a' + 'i&#108;' + '&#116;o';
				var path = 'hr' + 'ef'
  + '=';
				var addy3bbf3c2ac6f83a57d37d6fb381853c90 = 'h&#97;k-hlw-r&#101;
 &#117;tt&#101;' + '&#64;';
				addy3bbf3c2ac6f83a57d37d6fb381853c90 = addy3
 bbf3c2ac6f83a57d37d6fb381853c90 + 'tsn' + '&#46;' + '&#97;t';
				var addy_
 text3bbf3c2ac6f83a57d37d6fb381853c90 = 'h&#97;k-hlw-r&#101;&#117;tt&#101;' 
 + '&#64;' + 'tsn' + '&#46;' + '&#97;t';document.getElementById('cloak3bbf3c
 2ac6f83a57d37d6fb381853c90').innerHTML += '<a ' + path + '\'' + prefix + ':
 ' + addy3bbf3c2ac6f83a57d37d6fb381853c90 + '\'>'+addy_text3bbf3c2ac6f83a57d
 37d6fb381853c90+'<\/a>';
		</script> durchführen.</p><p>Wir freuen uns auf 
 Ihren Besuch!</p>
DTSTAMP:20260426T000320
DTSTART:20210201T160000
DTEND:20210201T180000
SEQUENCE:0
TRANSP:OPAQUE
END:VEVENT
END:VCALENDAR